Workbook

Sheet 参加申込書
C1: 令和８年度 全九州高等学校体育大会
C2: 第79回 全九州高等学校バレーボール競技大会
F3: 参加申込書
A4: 男 子 | N4: 県 名 | R4: 福岡県
N5: 予選順位 | R5: １位
A7: ふりがな | I7: 所在地
A8: 学校名
I9: TEL | N9: FAX
A11: ふりがな | I11: ふりがな
A12: 略式校名 | I12: 監 督 | S12: (職員)
A14: ふりがな | I14: 連絡先住所
A15: 引率責任者
I16: TEL | N16: FAX
A18: ふりがな
A19: コーチ | H19: (職員)
A21: ふりがな | I21: ふりがな
A22: マネージャー | I22: 主 将
A24: No. | B24: 背番号 | C24: 選手名 | G24: 学年 | H24: 生年月日 | J24: 身長 | L24: 最高到達点 | P24: 選手ID
H25: (H18.04.26) | J25: (cm) | L25: (cm)
A26: 1
A27: 2
A28: 3
A29: 4
A30: 5
A31: 6
A32: 7
A33: 8
A34: 9
A35: 10
A36: 11
A37: 12
... A39: 14
A41: 令和８年度 全九州高等学校体育大会長 様
A43: 上記の者は、本校在学生徒で、標記大会に出場することを認め、参加申し込みいたします。あわせて、
A44: 別紙「宿泊申込書」のとおり、宿泊申し込みいたします。
K46: 令和 | L46: 8 | M46: 年 | N46: 6 | O46: 月 | Q46: 日
K47: 校長 | S47: ㊞

Sheet 宿泊申込書
E1: 令和８年度 全九州高等学校体育大会
E2: 第79回 全九州高等学校バレーボール競技大会
I3: 選手・監督 宿泊・昼食申込書
S5: 県名 | U5: =参加申込書!R4 -> 福岡県
S6: 男女 | U6: =参加申込書!A4 -> 男 子
A7: 長崎県高等学校体育連盟会長 様 | S7: 予選順位 | U7: =参加申込書!R5 -> １位
A9: ふりがな | G9: =参加申込書!C7 -> 0 | P9: TEL | R9: =参加申込書!J9 -> 0
A10: 学校名 | G10: =参加申込書!C8 -> 0
P11: FAX | R11: =参加申込書!P9 -> 0
A12: 学校長名 | G12: =参加申込書!L47 -> 0 | P12: 引率責任者 | R12: =参加申込書!C15 -> 0
P13: 緊急連絡先
A14: 学校所在地 | G14: 〒 | K14: =参加申込書!K7 -> 0
A15: 宿泊予定 | G15: 6月18日(木) | K15: 6月19日(金) | N15: 6月20日(土) | Q15: 6月21日(日) | T15: 月 日( )
D16: 泊・食 | G16: 夕食 | I16: 宿泊 | J16: 翌朝食 | K16: 夕食 | L16: 宿泊 | M16: 翌朝食 | N16: 夕食 | O16: 宿泊 | P16: 翌朝食 | Q16: 夕食 | R16: 宿泊 | S16: 翌朝食 | T16: 夕食 | U16: 宿泊 | V16: 翌朝食
A17: 区分
A18: 選手 マネージャー (高校生) | E18: 男
E19: 女
A20: 監督 コーチ 引率者 | E20: 男
E21: 女
A22: 計 | G22: =SUM(G18:H21) -> 0 | I22: =SUM(I18:I21) -> 0 | J22: =SUM(J18:J21) -> 0 | K22: =SUM(K18:K21) -> 0 | L22: =SUM(L18:L21) -> 0 | M22: =SUM(M18:M21) -> 0 | N22: =SUM(N18:N21) -> 0 | O22: =SUM(O18:O21) -> 0 | P22: =SUM(P18:P21) -> 0 | ... S22: =SUM(S18:S21) -> 0
A23: 弁当必要数 | M23: 個 | P23: 個 | S23: 個
A24: 宿舎到着予定日時 | I24: 6 | J24: 月 | L24: 日 | N24: 曜日 | Q24: 時 | S24: 分 | T24: ごろ
A25: 持込車両 | G25: 自家用車 普通車 | K25: 台 | L25: ﾜｺﾞﾝ車 | O25: 台 | P25: ﾏｲｸﾛﾊﾞｽ | S25: 台 | T25: その他 | V25: 台
A26: 連絡事項
G28: １．宿泊日・食事の要否および必要数を正確に入力すること。(欠食対応不可)
G29: ２．到着・宿泊日時を変更する場合は、必ず、配宿担当業者に連絡すること。
G30: ３．発生したキャンセル料については、参加校が責任をもって期日までに支払うこと。
G31: ４．緊急連絡先には、携帯電話など連絡の取りやすい番号を記入すること。
G32: ５．入力された個人情報は、本大会の連絡業務以外に使用いたしません。
M33: (きりとりせん)
A35: 宿泊決定通知書
A36: =G10 -> 0
A37: 宿泊の件については、下記の通りにお引き受けすることが決定しましたのでお知らせします。
M39: 令和８年６月 日 配宿担当 ㊞
A41: 宿舎名 | P41: TEL
P42: FAX
A43: 所在地
A44: 連絡事項
A45: ※ 配宿担当業者により、上記宿泊決定通知書以外の形式で通知される場合があります。

Sheet プログラム用
A1: 学校名 | C1: =参加申込書!C8 -> 0
A2: 郵便番号 | C2: =宿泊申込書!H14 -> 0 | F2: TEL | G2: =参加申込書!J9 -> 0
A3: 住 所 | C3: =参加申込書!K7 -> 0
A4: 監 督 | C4: =参加申込書!L12 -> 0
A5: コーチ | C5: =参加申込書!D19 -> 0
A6: マネージャー | C6: =参加申込書!C22 -> 0
A7: No. | B7: 選手名 | G7: 学年 | H7: 身長 | J7: 最高到達点
A8: 1 | B8: =参加申込書!C26 -> 0 | G8: =参加申込書!G26 -> 0 | H8: =参加申込書!J26 -> 0 | J8: =参加申込書!L26 -> 0
A9: 2 | B9: =参加申込書!C27 -> 0 | G9: =参加申込書!G27 -> 0 | H9: =参加申込書!J27 -> 0 | J9: =参加申込書!L27 -> 0
A10: 3 | B10: =参加申込書!C28 -> 0 | G10: =参加申込書!G28 -> 0 | H10: =参加申込書!J28 -> 0 | J10: =参加申込書!L28 -> 0
A11: 4 | B11: =参加申込書!C29 -> 0 | G11: =参加申込書!G29 -> 0 | H11: =参加申込書!J29 -> 0 | J11: =参加申込書!L29 -> 0
A12: 5 | B12: =参加申込書!C30 -> 0 | G12: =参加申込書!G30 -> 0 | H12: =参加申込書!J30 -> 0 | J12: =参加申込書!L30 -> 0
A13: 6 | B13: =参加申込書!C31 -> 0 | G13: =参加申込書!G31 -> 0 | H13: =参加申込書!J31 -> 0 | J13: =参加申込書!L31 -> 0
A14: 7 | B14: =参加申込書!C32 -> 0 | G14: =参加申込書!G32 -> 0 | H14: =参加申込書!J32 -> 0 | J14: =参加申込書!L32 -> 0
A15: 8 | B15: =参加申込書!C33 -> 0 | G15: =参加申込書!G33 -> 0 | H15: =参加申込書!J33 -> 0 | J15: =参加申込書!L33 -> 0
A16: 9 | B16: =参加申込書!C34 -> 0 | G16: =参加申込書!G34 -> 0 | H16: =参加申込書!J34 -> 0 | J16: =参加申込書!L34 -> 0
A17: 10 | B17: =参加申込書!C35 -> 0 | G17: =参加申込書!G35 -> 0 | H17: =参加申込書!J35 -> 0 | J17: =参加申込書!L35 -> 0
A18: 11 | B18: =参加申込書!C36 -> 0 | G18: =参加申込書!G36 -> 0 | H18: =参加申込書!J36 -> 0 | J18: =参加申込書!L36 -> 0
A19: 12 | B19: =参加申込書!C37 -> 0 | G19: =参加申込書!G37 -> 0 | H19: =参加申込書!J37 -> 0 | J19: =参加申込書!L37 -> 0
... A21: 14 | B21: =参加申込書!C39 -> 0 | G21: =参加申込書!G39 -> 0 | H21: =参加申込書!J39 -> 0 | J21: =参加申込書!L39 -> 0
