Workbook

Sheet 大会参加申込書
A1: 令和８年度 全九州高等学校体育大会
A2: 第７６回 全九州高等学校ハンドボール競技大会
A3: 参 加 申 込 書
A5: 性別 | AC5: 県 名
AC6: 県順位
A8: ふりがな | W8: 所在地 | Y8: 〒 | AF8: =IF($AG$5="","",$AG$5)
A9: 学校名
A11: ユニフォームの色 | I11: ① CP | P11: ② CP | W11: 連絡責任者連絡先 | Y11: TEL | AB11: ( | AF11: ) | AJ11: －
Y12: FAX | AB12: ( | AF12: ) | AJ12: －
I13: ① GK | P13: ② GK | Y13: 携帯 | AB13: ( | AF13: ) | AJ13: －
Y14: Mail
AQ15: ※Mailアドレスは大会期間中も確認が取れるアドレスをご記入ください。
A17: ふりがな | N17: ふりがな | AA17: 学年 | AC17: ふりがな | AP17: 学年
A18: 監督氏名 | N18: 役員氏名 | AC18: 役員氏名
A21: 背番号 | D21: 選 手 名 | O21: 学年 | R21: 生年月日 | Z21: 身長 | AD21: 体重 | AH21: 利腕 | AL21: 出身中学校
R22: 平成
R23: 平成
R24: 平成
R25: 平成
R26: 平成
R27: 平成
R28: 平成
R29: 平成
R30: 平成
R31: 平成
R32: 平成
R33: 平成
... R35: 平成
A36: ※ 主将には、番号に○をつけること。なお番号が背番号と同じになること。(背番号の変更は認められません。)
A37: ※ 役員(主務)が生徒の場合は、学年を記入すること。
E39: 上記の者は、本校在学生徒で、標記大会に出場することを認め、参加申込を致します。
G40: 令和８年 月 日
L41: =IF(E9="","",E9&" ") | AA41: 学校長 | AP41: 印
A45: 令和８年度 全九州高等学校体育大会会長 様

Sheet プログラム用
A1: =IF(大会参加申込書!C5="","",大会参加申込書!C5) | E1: =IF(大会参加申込書!E9="","",大会参加申込書!E9) | W1: =IF(大会参加申込書!AG5="","",大会参加申込書!AG5) | AB1: =IF(大会参加申込書!AG6="","",大会参加申込書!AG6)
A2: 監督 | E2: =IF(大会参加申込書!E18="","",大会参加申込書!E18) | O2: № | P2: 選手名 | X2: 学年 | Z2: 身長 | AB2: 利腕 | AD2: 出身中
A3: 役員 | E3: =IF(大会参加申込書!R18="","",大会参加申込書!R18) | O3: =IF(大会参加申込書!A22="","",大会参加申込書!A22) | P3: =IF(大会参加申込書!D22="","",大会参加申込書!D22) | X3: =IF(大会参加申込書!O22="","",大会参加申込書!O22) | Z3: =IF(大会参加申込書!Z22="","",大会参加申込書!Z22) | AB3: =IF(大会参加申込書!AH22="","",大会参加申込書!AH22) | AD3: =IF(大会参加申込書!AL22="","",大会参加申込書!AL22)
A4: 役員 | E4: =IF(大会参加申込書!AG18="","",大会参加申込書!AG18) | O4: =IF(大会参加申込書!A23="","",大会参加申込書!A23) | P4: =IF(大会参加申込書!D23="","",大会参加申込書!D23) | X4: =IF(大会参加申込書!O23="","",大会参加申込書!O23) | Z4: =IF(大会参加申込書!Z23="","",大会参加申込書!Z23) | AB4: =IF(大会参加申込書!AH23="","",大会参加申込書!AH23) | AD4: =IF(大会参加申込書!AL23="","",大会参加申込書!AL23)
A5: 写真貼り付け | O5: =IF(大会参加申込書!A24="","",大会参加申込書!A24) | P5: =IF(大会参加申込書!D24="","",大会参加申込書!D24) | X5: =IF(大会参加申込書!O24="","",大会参加申込書!O24) | Z5: =IF(大会参加申込書!Z24="","",大会参加申込書!Z24) | AB5: =IF(大会参加申込書!AH24="","",大会参加申込書!AH24) | AD5: =IF(大会参加申込書!AL24="","",大会参加申込書!AL24)
O6: =IF(大会参加申込書!A25="","",大会参加申込書!A25) | P6: =IF(大会参加申込書!D25="","",大会参加申込書!D25) | X6: =IF(大会参加申込書!O25="","",大会参加申込書!O25) | Z6: =IF(大会参加申込書!Z25="","",大会参加申込書!Z25) | AB6: =IF(大会参加申込書!AH25="","",大会参加申込書!AH25) | AD6: =IF(大会参加申込書!AL25="","",大会参加申込書!AL25)
O7: =IF(大会参加申込書!A26="","",大会参加申込書!A26) | P7: =IF(大会参加申込書!D26="","",大会参加申込書!D26) | X7: =IF(大会参加申込書!O26="","",大会参加申込書!O26) | Z7: =IF(大会参加申込書!Z26="","",大会参加申込書!Z26) | AB7: =IF(大会参加申込書!AH26="","",大会参加申込書!AH26) | AD7: =IF(大会参加申込書!AL26="","",大会参加申込書!AL26)
O8: =IF(大会参加申込書!A27="","",大会参加申込書!A27) | P8: =IF(大会参加申込書!D27="","",大会参加申込書!D27) | X8: =IF(大会参加申込書!O27="","",大会参加申込書!O27) | Z8: =IF(大会参加申込書!Z27="","",大会参加申込書!Z27) | AB8: =IF(大会参加申込書!AH27="","",大会参加申込書!AH27) | AD8: =IF(大会参加申込書!AL27="","",大会参加申込書!AL27)
O9: =IF(大会参加申込書!A28="","",大会参加申込書!A28) | P9: =IF(大会参加申込書!D28="","",大会参加申込書!D28) | X9: =IF(大会参加申込書!O28="","",大会参加申込書!O28) | Z9: =IF(大会参加申込書!Z28="","",大会参加申込書!Z28) | AB9: =IF(大会参加申込書!AH28="","",大会参加申込書!AH28) | AD9: =IF(大会参加申込書!AL28="","",大会参加申込書!AL28)
O10: =IF(大会参加申込書!A29="","",大会参加申込書!A29) | P10: =IF(大会参加申込書!D29="","",大会参加申込書!D29) | X10: =IF(大会参加申込書!O29="","",大会参加申込書!O29) | Z10: =IF(大会参加申込書!Z29="","",大会参加申込書!Z29) | AB10: =IF(大会参加申込書!AH29="","",大会参加申込書!AH29) | AD10: =IF(大会参加申込書!AL29="","",大会参加申込書!AL29)
O11: =IF(大会参加申込書!A30="","",大会参加申込書!A30) | P11: =IF(大会参加申込書!D30="","",大会参加申込書!D30) | X11: =IF(大会参加申込書!O30="","",大会参加申込書!O30) | Z11: =IF(大会参加申込書!Z30="","",大会参加申込書!Z30) | AB11: =IF(大会参加申込書!AH30="","",大会参加申込書!AH30) | AD11: =IF(大会参加申込書!AL30="","",大会参加申込書!AL30)
O12: =IF(大会参加申込書!A31="","",大会参加申込書!A31) | P12: =IF(大会参加申込書!D31="","",大会参加申込書!D31) | X12: =IF(大会参加申込書!O31="","",大会参加申込書!O31) | Z12: =IF(大会参加申込書!Z31="","",大会参加申込書!Z31) | AB12: =IF(大会参加申込書!AH31="","",大会参加申込書!AH31) | AD12: =IF(大会参加申込書!AL31="","",大会参加申込書!AL31)
O13: =IF(大会参加申込書!A32="","",大会参加申込書!A32) | P13: =IF(大会参加申込書!D32="","",大会参加申込書!D32) | X13: =IF(大会参加申込書!O32="","",大会参加申込書!O32) | Z13: =IF(大会参加申込書!Z32="","",大会参加申込書!Z32) | AB13: =IF(大会参加申込書!AH32="","",大会参加申込書!AH32) | AD13: =IF(大会参加申込書!AL32="","",大会参加申込書!AL32)
A14: ≪ ユニフォーム≫ | O14: =IF(大会参加申込書!A33="","",大会参加申込書!A33) | P14: =IF(大会参加申込書!D33="","",大会参加申込書!D33) | X14: =IF(大会参加申込書!O33="","",大会参加申込書!O33) | Z14: =IF(大会参加申込書!Z33="","",大会参加申込書!Z33) | AB14: =IF(大会参加申込書!AH33="","",大会参加申込書!AH33) | AD14: =IF(大会参加申込書!AL33="","",大会参加申込書!AL33)
A15: Ｃ Ｐ | E15: ① | F15: =IF(大会参加申込書!K11="","",大会参加申込書!K11) | J15: ② | K15: =IF(大会参加申込書!R11="","",大会参加申込書!R11) | O15: =IF(大会参加申込書!A34="","",大会参加申込書!A34) | P15: =IF(大会参加申込書!D34="","",大会参加申込書!D34) | X15: =IF(大会参加申込書!O34="","",大会参加申込書!O34) | Z15: =IF(大会参加申込書!Z34="","",大会参加申込書!Z34) | AB15: =IF(大会参加申込書!AH34="","",大会参加申込書!AH34) | AD15: =IF(大会参加申込書!AL34="","",大会参加申込書!AL34)
A16: Ｇ Ｋ | E16: ① | F16: =IF(大会参加申込書!K13="","",大会参加申込書!K13) | J16: ② | K16: =IF(大会参加申込書!R13="","",大会参加申込書!R13) | O16: =IF(大会参加申込書!A35="","",大会参加申込書!A35) | P16: =IF(大会参加申込書!D35="","",大会参加申込書!D35) | X16: =IF(大会参加申込書!O35="","",大会参加申込書!O35) | Z16: =IF(大会参加申込書!Z35="","",大会参加申込書!Z35) | AB16: =IF(大会参加申込書!AH35="","",大会参加申込書!AH35) | AD16: =IF(大会参加申込書!AL35="","",大会参加申込書!AL35)
