Workbook

Sheet 始めに入力
A1: 参加校調査
B3: 都道府県名
B4: 学校名（正式名称ふりがな）
B5: 学校名（正式名称漢字）
B6: 学校名（略称，６文字以内）
B7: 学校住所（郵便番号） | D7: －
B8: 学校住所（都道府県から番地まで）
B9: 学校電話 | D9: － | F9: －
B10: 学校ＦＡＸ | D10: － | F10: －

Sheet 男子団体
A1: 令和８年度 全九州高等学校体育大会
A2: 第７２回 全九州高等学校弓道競技大会
A3: 参加申込書
A5: 男子団体競技用 | S5: 県 名 | V5: 県予選順位
S6: =IF(ISBLANK(始めに入力!C3),"",始めに入力!C3) | X6: 位
A8: ふりがな | D8: =IF(ISBLANK(始めに入力!C4),"",始めに入力!C4) | M8: 学校住所 | O8: =IF(ISBLANK(始めに入力!C7),"","〒"&始めに入力!C7&"－"&始めに入力!E7)
A9: 学 校 名 | D9: =IF(ISBLANK(始めに入力!C5),"",始めに入力!C5) | O9: =IF(ISBLANK(始めに入力!C8),"",始めに入力!C8)
O10: ＴＥＬ | Q10: =IF(ISBLANK(始めに入力!C10),"",始めに入力!C10&"－"&始めに入力!E9&"－"&始めに入力!G9)
A11: ふりがな | M11: ふりがな
A12: 監 督 名 | M12: 引率責任者名
A15: 立順 | C15: 姓（ふりがな） | H15: 名（ふりがな） | M15: 学年 | O15: 生年月日 | T15: 個人出場者には ○印
C16: 姓 | H16: 名
A17: 1
A19: 2
A21: 3
A23: 4
A25: 5
A27: 6
A28: 補欠
A29: 7
A30: 補欠
B32: 上記の者は，本校在学生で，標記大会に出場することを認め，参加申し込みいたします。
A33: 令和８年 | D33: 月 | F33: 日
B34: =IF(ISBLANK(始めに入力!C5),"",始めに入力!C5) | M34: 校長 | W34: 印
A36: 令和８年度 全九州高等学校体育大会会長 様

Sheet 女子団体
A1: 令和８年度 全九州高等学校体育大会
A2: 第７２回 全九州高等学校弓道競技大会
A3: 参加申込書
A5: 女子団体競技用 | S5: 県 名 | V5: 県予選順位
S6: =IF(ISBLANK(始めに入力!C3),"",始めに入力!C3) | X6: 位
A8: ふりがな | D8: =IF(ISBLANK(始めに入力!C4),"",始めに入力!C4) | M8: 学校住所 | O8: =IF(ISBLANK(始めに入力!C7),"","〒"&始めに入力!C7&"－"&始めに入力!E7)
A9: 学 校 名 | D9: =IF(ISBLANK(始めに入力!C5),"",始めに入力!C5) | O9: =IF(ISBLANK(始めに入力!C8),"",始めに入力!C8)
O10: ＴＥＬ | Q10: =IF(ISBLANK(始めに入力!C10),"",始めに入力!C10&"－"&始めに入力!E9&"－"&始めに入力!G9)
A11: ふりがな | M11: ふりがな
A12: 監 督 名 | M12: 引率責任者名
A15: 立順 | C15: 姓（ふりがな） | H15: 名（ふりがな） | M15: 学年 | O15: 生年月日 | T15: 個人出場者には ○印
C16: 姓 | H16: 名
A17: 1
A19: 2
A21: 3
A23: 4
A25: 5
A27: 6
A28: 補欠
A29: 7
A30: 補欠
B32: 上記の者は，本校在学生で，標記大会に出場することを認め，参加申し込みいたします。
A33: 令和８年 | D33: 月 | F33: 日
B34: =IF(ISBLANK(始めに入力!C5),"",始めに入力!C5) | M34: 校長 | W34: 印
A36: 令和８年度 全九州高等学校体育大会会長 様

Sheet 男子個人
A1: 令和８年度 全九州高等学校体育大会
A2: 第７２回 全九州高等学校弓道競技大会
A3: 参加申込書
A5: 男子個人競技用 | U5: 県 名
U6: =IF(ISBLANK(始めに入力!C3),"",始めに入力!C3)
A8: ふりがな | D8: =IF(ISBLANK(始めに入力!C4),"",始めに入力!C4) | M8: 学校住所 | O8: =IF(ISBLANK(始めに入力!C7),"","〒"&始めに入力!C7&"－"&始めに入力!E7)
A9: 学 校 名 | D9: =IF(ISBLANK(始めに入力!C5),"",始めに入力!C5) | O9: =IF(ISBLANK(始めに入力!C8),"",始めに入力!C8)
O10: ＴＥＬ | Q10: =IF(ISBLANK(始めに入力!C10),"",始めに入力!C10&"－"&始めに入力!E9&"－"&始めに入力!G9)
A11: ふりがな | M11: ふりがな
A12: 監 督 名 | M12: 引率責任者名
A15: 姓（ふりがな） | G15: 名（ふりがな） | M15: 学年 | O15: 生年月日 | T15: 県予選順位
A16: 姓 | G16: 名
W17: 位
W19: 位
W21: 位
W23: 位
W25: 位
B28: 上記の者は，本校在学生で，標記大会に出場することを認め，参加申し込みいたします。
A29: 令和８年 | D29: 月 | F29: 日
B30: =IF(ISBLANK(始めに入力!C5),"",始めに入力!C5) | M30: 校長 | W30: 印
A32: 令和８年度 全九州高等学校体育大会会長 様

Sheet 女子個人
A1: 令和８年度 全九州高等学校体育大会
A2: 第７２回 全九州高等学校弓道競技大会
A3: 参加申込書
A5: 女子個人競技用 | U5: 県 名
U6: =IF(ISBLANK(始めに入力!C3),"",始めに入力!C3)
A8: ふりがな | D8: =IF(ISBLANK(始めに入力!C4),"",始めに入力!C4) | M8: 学校住所 | O8: =IF(ISBLANK(始めに入力!C7),"","〒"&始めに入力!C7&"－"&始めに入力!E7)
A9: 学 校 名 | D9: =IF(ISBLANK(始めに入力!C5),"",始めに入力!C5) | O9: =IF(ISBLANK(始めに入力!C8),"",始めに入力!C8)
O10: ＴＥＬ | Q10: =IF(ISBLANK(始めに入力!C10),"",始めに入力!C10&"－"&始めに入力!E9&"－"&始めに入力!G9)
A11: ふりがな | M11: ふりがな
A12: 監 督 名 | M12: 引率責任者名
A15: 姓（ふりがな） | G15: 名（ふりがな） | M15: 学年 | O15: 生年月日 | T15: 県予選順位
A16: 姓 | G16: 名
W17: 位
W19: 位
W21: 位
W23: 位
W25: 位
B28: 上記の者は，本校在学生で，標記大会に出場することを認め，参加申し込みいたします。
A29: 令和８年 | D29: 月 | F29: 日
B30: =IF(ISBLANK(始めに入力!C5),"",始めに入力!C5) | M30: 校長 | W30: 印
A32: 令和８年度 全九州高等学校体育大会会長 様

Sheet 運営用
A1: 福岡 | B1: 1 | D1: 県名 | E1: 学校名 | F1: 郵便番号1 | G1: 郵便番号2 | H1: 住所 | I1: tel1 | J1: tel2 | K1: tel3 | L1: fax1 | M1: fax2 | N1: fax3
A2: 佐賀 | B2: 2 | D2: =始めに入力!C3 -> 0 | E2: =始めに入力!C5 -> 0 | F2: =始めに入力!C7 -> 0 | G2: =始めに入力!E7 -> 0 | H2: =始めに入力!C8 -> 0 | I2: =始めに入力!C9 -> 0 | J2: =始めに入力!E9 -> 0 | K2: =始めに入力!G9 -> 0 | L2: =始めに入力!C10 -> 0 | M2: =始めに入力!E10 -> 0 | N2: =始めに入力!G10 -> 0
A3: 長崎 | B3: 3
A4: 熊本 | B4: 4 | D4: 男子団体
A5: 大分 | B5: 5 | D5: 選手コード | E5: 団体コード | F5: 学校名（略称） | G5: 学校名（正式） | H5: 立順 | I5: 姓 | J5: 名 | K5: せい | L5: めい | M5: 学年 | N5: 個人出場 | O5: 監督名
A6: 宮崎 | D6: =IF(ISBLANK(男子団体!$C$18),"",E6+H6) | E6: =IF(ISBLANK(男子団体!$C$18),"",$A$25*10000+1000+100+男子団体!$V$6*10) | F6: =IF(ISBLANK(男子団体!$C$18),"",始めに入力!$C$6) | G6: =IF(ISBLANK(男子団体!$C$18),"",始めに入力!$C$5) | H6: =IF(ISBLANK(男子団体!$C$18),"",男子団体!$A$17) | I6: =IF(ISBLANK(男子団体!$C$18),"",男子団体!$C$18) | J6: =IF(ISBLANK(男子団体!$H$18),"",男子団体!$H$18) | K6: =IF(ISBLANK(男子団体!$C$17),"",男子団体!$C$17) | L6: =IF(ISBLANK(男子団体!$H$17),"",男子団体!$H$17) | M6: =IF(ISBLANK(男子団体!$M$17),"",男子団体!$M$17) | N6: =IF(ISBLANK(男子団体!$T$17),"",男子団体!$T$17) | O6: =IF(ISBLANK(男子団体!$C$18),"",男子団体!$D$12)
A7: 鹿児島 | B7: ○ | D7: =IF(ISBLANK(男子団体!$C$20),"",E7+H7) | E7: =IF(ISBLANK(男子団体!$C$20),"",$A$25*10000+1000+100+男子団体!$V$6*10) | F7: =IF(ISBLANK(男子団体!$C$20),"",始めに入力!$C$6) | G7: =IF(ISBLANK(男子団体!$C$20),"",始めに入力!$C$5) | H7: =IF(ISBLANK(男子団体!$C$20),"",男子団体!$A$19) | I7: =IF(ISBLANK(男子団体!$C$20),"",男子団体!$C$20) | J7: =IF(ISBLANK(男子団体!$H$20),"",男子団体!$H$20) | K7: =IF(ISBLANK(男子団体!$C$19),"",男子団体!$C$19) | L7: =IF(ISBLANK(男子団体!$H$20),"",男子団体!$H$19) | M7: =IF(ISBLANK(男子団体!$M$19),"",男子団体!$M$19) | N7: =IF(ISBLANK(男子団体!$T$19),"",男子団体!$T$19) | O7: =IF(ISBLANK(男子団体!$C$20),"",男子団体!$D$12)
A8: 沖縄 | B8: × | D8: =IF(ISBLANK(男子団体!$C$22),"",E8+H8) | E8: =IF(ISBLANK(男子団体!$C$22),"",$A$25*10000+1000+100+男子団体!$V$6*10) | F8: =IF(ISBLANK(男子団体!$C$22),"",始めに入力!$C$6) | G8: =IF(ISBLANK(男子団体!$C$22),"",始めに入力!$C$5) | H8: =IF(ISBLANK(男子団体!$C$22),"",男子団体!$A$21) | I8: =IF(ISBLANK(男子団体!$C$22),"",男子団体!$C$22) | J8: =IF(ISBLANK(男子団体!$H$22),"",男子団体!$H$22) | K8: =IF(ISBLANK(男子団体!$C$21),"",男子団体!$C$21) | L8: =IF(ISBLANK(男子団体!$H$21),"",男子団体!$H$21) | M8: =IF(ISBLANK(男子団体!$M$21),"",男子団体!$M$21) | N8: =IF(ISBLANK(男子団体!$T$21),"",男子団体!$T$21) | O8: =IF(ISBLANK(男子団体!$C$22),"",男子団体!$D$12)
D9: =IF(ISBLANK(男子団体!$C$24),"",E9+H9) | E9: =IF(ISBLANK(男子団体!$C$24),"",$A$25*10000+1000+100+男子団体!$V$6*10) | F9: =IF(ISBLANK(男子団体!$C$24),"",始めに入力!$C$6) | G9: =IF(ISBLANK(男子団体!$C$24),"",始めに入力!$C$5) | H9: =IF(ISBLANK(男子団体!$C$24),"",男子団体!$A$23) | I9: =IF(ISBLANK(男子団体!$C$24),"",男子団体!$C$24) | J9: =IF(ISBLANK(男子団体!$H$24),"",男子団体!$H$24) | K9: =IF(ISBLANK(男子団体!$C$23),"",男子団体!$C$23) | L9: =IF(ISBLANK(男子団体!$H$23),"",男子団体!$H$23) | M9: =IF(ISBLANK(男子団体!$M$23),"",男子団体!$M$23) | N9: =IF(ISBLANK(男子団体!$T$23),"",男子団体!$T$23) | O9: =IF(ISBLANK(男子団体!$C$24),"",男子団体!$D$12)
A10: 男子 | B10: 1 | D10: =IF(ISBLANK(男子団体!$C$26),"",E10+H10) | E10: =IF(ISBLANK(男子団体!$C$26),"",$A$25*10000+1000+100+男子団体!$V$6*10) | F10: =IF(ISBLANK(男子団体!$C$26),"",始めに入力!$C$6) | G10: =IF(ISBLANK(男子団体!$C$26),"",始めに入力!$C$5) | H10: =IF(ISBLANK(男子団体!$C$26),"",男子団体!$A$25) | I10: =IF(ISBLANK(男子団体!$C$26),"",男子団体!$C$26) | J10: =IF(ISBLANK(男子団体!$H$26),"",男子団体!$H$26) | K10: =IF(ISBLANK(男子団体!$C$25),"",男子団体!$C$25) | L10: =IF(ISBLANK(男子団体!$H$25),"",男子団体!$H$25) | M10: =IF(ISBLANK(男子団体!$M$25),"",男子団体!$M$25) | N10: =IF(ISBLANK(男子団体!$T$25),"",男子団体!$T$25) | O10: =IF(ISBLANK(男子団体!$C$26),"",男子団体!$D$12)
A11: 女子 | B11: 2 | D11: =IF(ISBLANK(男子団体!$C$28),"",E11+H11) | E11: =IF(ISBLANK(男子団体!$C$28),"",$A$25*10000+1000+100+男子団体!$V$6*10) | F11: =IF(ISBLANK(男子団体!$C$28),"",始めに入力!$C$6) | G11: =IF(ISBLANK(男子団体!$C$28),"",始めに入力!$C$5) | H11: =IF(ISBLANK(男子団体!$C$28),"",男子団体!$A$27) | I11: =IF(ISBLANK(男子団体!$C$28),"",男子団体!$C$28) | J11: =IF(ISBLANK(男子団体!$H$28),"",男子団体!$H$28) | K11: =IF(ISBLANK(男子団体!$C$27),"",男子団体!$C$27) | L11: =IF(ISBLANK(男子団体!$H$27),"",男子団体!$H$27) | M11: =IF(ISBLANK(男子団体!$M$27),"",男子団体!$M$27) | N11: =IF(ISBLANK(男子団体!$T$27),"",男子団体!$T$27) | O11: =IF(ISBLANK(男子団体!$C$28),"",男子団体!$D$12)
D12: =IF(ISBLANK(男子団体!$C$30),"",E12+H12) | E12: =IF(ISBLANK(男子団体!$C$30),"",$A$25*10000+1000+100+男子団体!$V$6*10) | F12: =IF(ISBLANK(男子団体!$C$30),"",始めに入力!$C$6) | G12: =IF(ISBLANK(男子団体!$C$30),"",始めに入力!$C$5) | H12: =IF(ISBLANK(男子団体!$C$30),"",男子団体!$A$29) | I12: =IF(ISBLANK(男子団体!$C$30),"",男子団体!$C$30) | J12: =IF(ISBLANK(男子団体!$H$30),"",男子団体!$H$30) | K12: =IF(ISBLANK(男子団体!$C$29),"",男子団体!$C$29) | L12: =IF(ISBLANK(男子団体!$H$29),"",男子団体!$H$29) | M12: =IF(ISBLANK(男子団体!$M$29),"",男子団体!$M$29) | N12: =IF(ISBLANK(男子団体!$T$29),"",男子団体!$T$29) | O12: =IF(ISBLANK(男子団体!$C$30),"",男子団体!$D$12)
A13: 団体 | B13: 1
A14: 個人 | B14: 2 | D14: 女子団体
D15: 選手コード | E15: 団体コード | F15: 学校名（略称） | G15: 学校名（正式） | H15: 立順 | I15: 姓 | J15: 名 | K15: せい | L15: めい | M15: 学年 | N15: 個人出場 | O15: 監督名
A16: 福岡 | B16: 40 | D16: =IF(ISBLANK(女子団体!$C$18),"",E16+H16) | E16: =IF(ISBLANK(女子団体!$C$18),"",$A$25*10000+2000+100+女子団体!$V$6*10) | F16: =IF(ISBLANK(女子団体!$C$18),"",始めに入力!$C$6) | G16: =IF(ISBLANK(女子団体!$C$18),"",始めに入力!$C$5) | H16: =IF(ISBLANK(女子団体!$C$18),"",女子団体!$A$17) | I16: =IF(ISBLANK(女子団体!$C$18),"",女子団体!$C$18) | J16: =IF(ISBLANK(女子団体!$H$18),"",女子団体!$H$18) | K16: =IF(ISBLANK(女子団体!$C$17),"",女子団体!$C$17) | L16: =IF(ISBLANK(女子団体!$H$17),"",女子団体!$H$17) | M16: =IF(ISBLANK(女子団体!$M$17),"",女子団体!$M$17) | N16: =IF(ISBLANK(女子団体!$T$17),"",女子団体!$T$17) | O16: =IF(ISBLANK(女子団体!$C$18),"",女子団体!$D$12)
A17: 佐賀 | B17: 41 | D17: =IF(ISBLANK(女子団体!$C$20),"",E17+H17) | E17: =IF(ISBLANK(女子団体!$C$20),"",$A$25*10000+2000+100+女子団体!$V$6*10) | F17: =IF(ISBLANK(女子団体!$C$20),"",始めに入力!$C$6) | G17: =IF(ISBLANK(女子団体!$C$20),"",始めに入力!$C$5) | H17: =IF(ISBLANK(女子団体!$C$20),"",女子団体!$A$19) | I17: =IF(ISBLANK(女子団体!$C$20),"",女子団体!$C$20) | J17: =IF(ISBLANK(女子団体!$H$20),"",女子団体!$H$20) | K17: =IF(ISBLANK(女子団体!$C$19),"",女子団体!$C$19) | L17: =IF(ISBLANK(女子団体!$H$20),"",女子団体!$H$19) | M17: =IF(ISBLANK(女子団体!$M$19),"",女子団体!$M$19) | N17: =IF(ISBLANK(女子団体!$T$19),"",女子団体!$T$19) | O17: =IF(ISBLANK(女子団体!$C$20),"",女子団体!$D$12)
A18: 長崎 | B18: 42 | D18: =IF(ISBLANK(女子団体!$C$22),"",E18+H18) | E18: =IF(ISBLANK(女子団体!$C$22),"",$A$25*10000+2000+100+女子団体!$V$6*10) | F18: =IF(ISBLANK(女子団体!$C$22),"",始めに入力!$C$6) | G18: =IF(ISBLANK(女子団体!$C$22),"",始めに入力!$C$5) | H18: =IF(ISBLANK(女子団体!$C$22),"",女子団体!$A$21) | I18: =IF(ISBLANK(女子団体!$C$22),"",女子団体!$C$22) | J18: =IF(ISBLANK(女子団体!$H$22),"",女子団体!$H$22) | K18: =IF(ISBLANK(女子団体!$C$21),"",女子団体!$C$21) | L18: =IF(ISBLANK(女子団体!$H$21),"",女子団体!$H$21) | M18: =IF(ISBLANK(女子団体!$M$21),"",女子団体!$M$21) | N18: =IF(ISBLANK(女子団体!$T$21),"",女子団体!$T$21) | O18: =IF(ISBLANK(女子団体!$C$22),"",女子団体!$D$12)
A19: 熊本 | B19: 43 | D19: =IF(ISBLANK(女子団体!$C$24),"",E19+H19) | E19: =IF(ISBLANK(女子団体!$C$24),"",$A$25*10000+2000+100+女子団体!$V$6*10) | F19: =IF(ISBLANK(女子団体!$C$24),"",始めに入力!$C$6) | G19: =IF(ISBLANK(女子団体!$C$24),"",始めに入力!$C$5) | H19: =IF(ISBLANK(女子団体!$C$24),"",女子団体!$A$23) | I19: =IF(ISBLANK(女子団体!$C$24),"",女子団体!$C$24) | J19: =IF(ISBLANK(女子団体!$H$24),"",女子団体!$H$24) | K19: =IF(ISBLANK(女子団体!$C$23),"",女子団体!$C$23) | L19: =IF(ISBLANK(女子団体!$H$23),"",女子団体!$H$23) | M19: =IF(ISBLANK(女子団体!$M$23),"",女子団体!$M$23) | N19: =IF(ISBLANK(女子団体!$T$23),"",女子団体!$T$23) | O19: =IF(ISBLANK(女子団体!$C$24),"",女子団体!$D$12)
A20: 大分 | B20: 44 | D20: =IF(ISBLANK(女子団体!$C$26),"",E20+H20) | E20: =IF(ISBLANK(女子団体!$C$26),"",$A$25*10000+2000+100+女子団体!$V$6*10) | F20: =IF(ISBLANK(女子団体!$C$26),"",始めに入力!$C$6) | G20: =IF(ISBLANK(女子団体!$C$26),"",始めに入力!$C$5) | H20: =IF(ISBLANK(女子団体!$C$26),"",女子団体!$A$25) | I20: =IF(ISBLANK(女子団体!$C$26),"",女子団体!$C$26) | J20: =IF(ISBLANK(女子団体!$H$26),"",女子団体!$H$26) | K20: =IF(ISBLANK(女子団体!$C$25),"",女子団体!$C$25) | L20: =IF(ISBLANK(女子団体!$H$25),"",女子団体!$H$25) | M20: =IF(ISBLANK(女子団体!$M$25),"",女子団体!$M$25) | N20: =IF(ISBLANK(女子団体!$T$25),"",女子団体!$T$25) | O20: =IF(ISBLANK(女子団体!$C$26),"",女子団体!$D$12)
A21: 宮崎 | B21: 45 | D21: =IF(ISBLANK(女子団体!$C$28),"",E21+H21) | E21: =IF(ISBLANK(女子団体!$C$28),"",$A$25*10000+2000+100+女子団体!$V$6*10) | F21: =IF(ISBLANK(女子団体!$C$28),"",始めに入力!$C$6) | G21: =IF(ISBLANK(女子団体!$C$28),"",始めに入力!$C$5) | H21: =IF(ISBLANK(女子団体!$C$28),"",女子団体!$A$27) | I21: =IF(ISBLANK(女子団体!$C$28),"",女子団体!$C$28) | J21: =IF(ISBLANK(女子団体!$H$28),"",女子団体!$H$28) | K21: =IF(ISBLANK(女子団体!$C$27),"",女子団体!$C$27) | L21: =IF(ISBLANK(女子団体!$H$27),"",女子団体!$H$27) | M21: =IF(ISBLANK(女子団体!$M$27),"",女子団体!$M$27) | N21: =IF(ISBLANK(女子団体!$T$27),"",女子団体!$T$27) | O21: =IF(ISBLANK(女子団体!$C$28),"",女子団体!$D$12)
A22: 鹿児島 | B22: 46 | D22: =IF(ISBLANK(女子団体!$C$30),"",E22+H22) | E22: =IF(ISBLANK(女子団体!$C$30),"",$A$25*10000+2000+100+女子団体!$V$6*10) | F22: =IF(ISBLANK(女子団体!$C$30),"",始めに入力!$C$6) | G22: =IF(ISBLANK(女子団体!$C$30),"",始めに入力!$C$5) | H22: =IF(ISBLANK(女子団体!$C$30),"",女子団体!$A$29) | I22: =IF(ISBLANK(女子団体!$C$30),"",女子団体!$C$30) | J22: =IF(ISBLANK(女子団体!$H$30),"",女子団体!$H$30) | K22: =IF(ISBLANK(女子団体!$C$29),"",女子団体!$C$29) | L22: =IF(ISBLANK(女子団体!$H$29),"",女子団体!$H$29) | M22: =IF(ISBLANK(女子団体!$M$29),"",女子団体!$M$29) | N22: =IF(ISBLANK(女子団体!$T$29),"",女子団体!$T$29) | O22: =IF(ISBLANK(女子団体!$C$30),"",女子団体!$D$12)
A23: 沖縄 | B23: 47
D24: 男子個人
A25: =VLOOKUP(D2,A16:B23,2,FALSE) -> #N/A | D25: 選手コード | F25: 学校名（略称） | G25: 学校名（正式） | H25: 予選順位 | I25: 姓 | J25: 名 | K25: せい | L25: めい | M25: 学年 | O25: 監督名
D26: =IF(ISBLANK(男子個人!$A$18),"",$A$25*10000+1000+200+H26) | F26: =IF(ISBLANK(男子個人!$A$18),"",始めに入力!$C$6) | G26: =IF(ISBLANK(男子個人!$A$18),"",始めに入力!$C$5) | H26: =IF(ISBLANK(男子個人!$T$17),"",男子個人!$T$17) | I26: =IF(ISBLANK(男子個人!$A$18),"",男子個人!$A$18) | J26: =IF(ISBLANK(男子個人!$G$18),"",男子個人!$G$18) | K26: =IF(ISBLANK(男子個人!$A$17),"",男子個人!$A$17) | L26: =IF(ISBLANK(男子個人!$G$17),"",男子個人!$G$17) | M26: =IF(ISBLANK(男子個人!$M$17),"",男子個人!$M$17) | O26: =IF(ISBLANK(男子個人!$A$18),"",男子個人!$D$12)
D27: =IF(ISBLANK(男子個人!$A$18),"",$A$25*10000+1000+200+H27) | F27: =IF(ISBLANK(男子個人!$A$20),"",始めに入力!$C$6) | G27: =IF(ISBLANK(男子個人!$A$20),"",始めに入力!$C$5) | H27: =IF(ISBLANK(男子個人!$T$19),"",男子個人!$T$19) | I27: =IF(ISBLANK(男子個人!$A$20),"",男子個人!$A$20) | J27: =IF(ISBLANK(男子個人!$G$20),"",男子個人!$G$20) | K27: =IF(ISBLANK(男子個人!$A$19),"",男子個人!$A$19) | L27: =IF(ISBLANK(男子個人!$G$19),"",男子個人!$G$19) | M27: =IF(ISBLANK(男子個人!$M$19),"",男子個人!$M$19) | O27: =IF(ISBLANK(男子個人!$A$20),"",男子個人!$D$12)
D28: =IF(ISBLANK(男子個人!$A$18),"",$A$25*10000+1000+200+H28) | F28: =IF(ISBLANK(男子個人!$A$22),"",始めに入力!$C$6) | G28: =IF(ISBLANK(男子個人!$A$22),"",始めに入力!$C$5) | H28: =IF(ISBLANK(男子個人!$T$21),"",男子個人!$T$21) | I28: =IF(ISBLANK(男子個人!$A$22),"",男子個人!$A$22) | J28: =IF(ISBLANK(男子個人!$G$22),"",男子個人!$G$22) | K28: =IF(ISBLANK(男子個人!$A$21),"",男子個人!$A$21) | L28: =IF(ISBLANK(男子個人!$G$21),"",男子個人!$G$21) | M28: =IF(ISBLANK(男子個人!$M$21),"",男子個人!$M$21) | O28: =IF(ISBLANK(男子個人!$A$22),"",男子個人!$D$12)
D29: =IF(ISBLANK(男子個人!$A$18),"",$A$25*10000+1000+200+H29) | F29: =IF(ISBLANK(男子個人!$A$24),"",始めに入力!$C$6) | G29: =IF(ISBLANK(男子個人!$A$24),"",始めに入力!$C$5) | H29: =IF(ISBLANK(男子個人!$T$23),"",男子個人!$T$23) | I29: =IF(ISBLANK(男子個人!$A$24),"",男子個人!$A$24) | J29: =IF(ISBLANK(男子個人!$G$24),"",男子個人!$G$24) | K29: =IF(ISBLANK(男子個人!$A$23),"",男子個人!$A$23) | L29: =IF(ISBLANK(男子個人!$G$23),"",男子個人!$G$23) | M29: =IF(ISBLANK(男子個人!$M$23),"",男子個人!$M$23) | O29: =IF(ISBLANK(男子個人!$A$24),"",男子個人!$D$12)
D30: =IF(ISBLANK(男子個人!$A$18),"",$A$25*10000+1000+200+H30) | F30: =IF(ISBLANK(男子個人!$A$26),"",始めに入力!$C$6) | G30: =IF(ISBLANK(男子個人!$A$26),"",始めに入力!$C$5) | H30: =IF(ISBLANK(男子個人!$T$25),"",男子個人!$T$25) | I30: =IF(ISBLANK(男子個人!$A$26),"",男子個人!$A$26) | J30: =IF(ISBLANK(男子個人!$G$26),"",男子個人!$G$26) | K30: =IF(ISBLANK(男子個人!$A$25),"",男子個人!$A$25) | L30: =IF(ISBLANK(男子個人!$G$25),"",男子個人!$G$25) | M30: =IF(ISBLANK(男子個人!$M$25),"",男子個人!$M$25) | O30: =IF(ISBLANK(男子個人!$A$26),"",男子個人!$D$12)
D32: 男子個人
D33: 選手コード | F33: 学校名（略称） | G33: 学校名（正式） | H33: 予選順位 | I33: 姓 | J33: 名 | K33: せい | L33: めい | M33: 学年 | O33: 監督名
D34: =IF(ISBLANK(女子個人!$A$18),"",$A$25*10000+2000+200+H34) | F34: =IF(ISBLANK(女子個人!$A$18),"",始めに入力!$C$6) | G34: =IF(ISBLANK(女子個人!$A$18),"",始めに入力!$C$5) | H34: =IF(ISBLANK(女子個人!$T$17),"",女子個人!$T$17) | I34: =IF(ISBLANK(女子個人!$A$18),"",女子個人!$A$18) | J34: =IF(ISBLANK(女子個人!$G$18),"",女子個人!$G$18) | K34: =IF(ISBLANK(女子個人!$A$17),"",女子個人!$A$17) | L34: =IF(ISBLANK(女子個人!$G$17),"",女子個人!$G$17) | M34: =IF(ISBLANK(女子個人!$M$17),"",女子個人!$M$17) | O34: =IF(ISBLANK(女子個人!$A$18),"",女子個人!$D$12)
D35: =IF(ISBLANK(女子個人!$A$18),"",$A$25*10000+2000+200+H35) | F35: =IF(ISBLANK(女子個人!$A$20),"",始めに入力!$C$6) | G35: =IF(ISBLANK(女子個人!$A$20),"",始めに入力!$C$5) | H35: =IF(ISBLANK(女子個人!$T$19),"",女子個人!$T$19) | I35: =IF(ISBLANK(女子個人!$A$20),"",女子個人!$A$20) | J35: =IF(ISBLANK(女子個人!$G$20),"",女子個人!$G$20) | K35: =IF(ISBLANK(女子個人!$A$19),"",女子個人!$A$19) | L35: =IF(ISBLANK(女子個人!$G$19),"",女子個人!$G$19) | M35: =IF(ISBLANK(女子個人!$M$19),"",女子個人!$M$19) | O35: =IF(ISBLANK(女子個人!$A$20),"",女子個人!$D$12)
D36: =IF(ISBLANK(女子個人!$A$18),"",$A$25*10000+2000+200+H36) | F36: =IF(ISBLANK(女子個人!$A$22),"",始めに入力!$C$6) | G36: =IF(ISBLANK(女子個人!$A$22),"",始めに入力!$C$5) | H36: =IF(ISBLANK(女子個人!$T$21),"",女子個人!$T$21) | I36: =IF(ISBLANK(女子個人!$A$22),"",女子個人!$A$22) | J36: =IF(ISBLANK(女子個人!$G$22),"",女子個人!$G$22) | K36: =IF(ISBLANK(女子個人!$A$21),"",女子個人!$A$21) | L36: =IF(ISBLANK(女子個人!$G$21),"",女子個人!$G$21) | M36: =IF(ISBLANK(女子個人!$M$21),"",女子個人!$M$21) | O36: =IF(ISBLANK(女子個人!$A$22),"",女子個人!$D$12)
D37: =IF(ISBLANK(女子個人!$A$18),"",$A$25*10000+2000+200+H37) | F37: =IF(ISBLANK(女子個人!$A$24),"",始めに入力!$C$6) | G37: =IF(ISBLANK(女子個人!$A$24),"",始めに入力!$C$5) | H37: =IF(ISBLANK(女子個人!$T$23),"",女子個人!$T$23) | I37: =IF(ISBLANK(女子個人!$A$24),"",女子個人!$A$24) | J37: =IF(ISBLANK(女子個人!$G$24),"",女子個人!$G$24) | K37: =IF(ISBLANK(女子個人!$A$23),"",女子個人!$A$23) | L37: =IF(ISBLANK(女子個人!$G$23),"",女子個人!$G$23) | M37: =IF(ISBLANK(女子個人!$M$23),"",女子個人!$M$23) | O37: =IF(ISBLANK(女子個人!$A$24),"",女子個人!$D$12)
D38: =IF(ISBLANK(女子個人!$A$18),"",$A$25*10000+2000+200+H38) | F38: =IF(ISBLANK(女子個人!$A$26),"",始めに入力!$C$6) | G38: =IF(ISBLANK(女子個人!$A$26),"",始めに入力!$C$5) | H38: =IF(ISBLANK(女子個人!$T$25),"",女子個人!$T$25) | I38: =IF(ISBLANK(女子個人!$A$26),"",女子個人!$A$26) | J38: =IF(ISBLANK(女子個人!$G$26),"",女子個人!$G$26) | K38: =IF(ISBLANK(女子個人!$A$25),"",女子個人!$A$25) | L38: =IF(ISBLANK(女子個人!$G$25),"",女子個人!$G$25) | M38: =IF(ISBLANK(女子個人!$M$25),"",女子個人!$M$25) | O38: =IF(ISBLANK(女子個人!$A$26),"",女子個人!$D$12)
