Workbook

Sheet 参加申込書
B1: 令和８年度 全九州高等学校体育大会 第６１回全九州高等学校ローイング競技大会 参加申込書 | J1: ブレードカラー
B3: 学校名 | F3: 学校 所在地 | J3: 学校長名 | N3: 記入要領
B5: 男子 | C5: 舵手つきクォドルプル | D5: 県予選順位 | F5: 位 | H5: 女子 | I5: 舵手つきクォドルプル | J5: 県予選順位 | L5: 位 | N5: このシート（申込書）は書式を変更しないでください。
B6: 学校名 | D6: 緊急連絡用携帯番号 | H6: 学校名 | J6: 緊急連絡用携帯番号 | N6: このシートを入力すると、クルー毎の選手一覧票（監視カード）にも氏名等が入力されます。
B7: 監 督 | H7: 監 督 | N7: 写真票兼監視カード（カラー印刷ラミネート加工したもの １部）は
C8: ふりがな | D8: 生年月日 | F8: 学年 | I8: ふりがな | J8: 生年月日 | L8: 学年 | N8: ６月１２日開会式・代表者会議受付時に提出してください。
C9: 選 手 名 | I9: 選 手 名 | N9: ＊写真のサイズは３ｃｍ×３．５ｃｍ程度でお願いします。
B10: Ｃ | H10: Ｃ
O11: ふりがなは | P11: 生年月日は 西暦、半角数字で記入
B12: S | H12: S | O12: ひらがな入力
O13: ふりがな | P13: 生年月日 | R13: 学年
B14: 3 | H14: 3 | O14: 選 手 名
N15: Ｃ | O15: うえだ きょうこ | P15: 1967.01.09 | R15: 3年
B16: 2 | H16: 2 | O16: 植田 京子
B18: B | H18: B
B20: 補 | H20: 補
B22: 補 | H22: 補
O23: 写真票に反映されます。クルー毎に記入して下さい。
B25: 男子 | C25: ダブルスカル | D25: 県予選順位 | F25: 位 | H25: 女子 | I25: ダブルスカル | J25: 県予選順位 | L25: 位
B26: 学校名 | D26: 緊急連絡用携帯番号 | H26: 学校名 | J26: 緊急連絡用携帯番号 | N26: 学校名 | O26: 大村 | P26: 緊急連絡用携帯番号
B27: 監 督 | H27: 監 督 | N27: 監 督 | O27: 植田京子 | P27: 09025861733
C28: ふりがな | D28: 生年月日 | F28: 学年 | I28: ふりがな | J28: 生年月日 | L28: 学年
C29: 選 手 名 | I29: 選 手 名
B30: S | H30: S
B32: B | H32: B
B34: 補 | H34: 補
B37: 男子 | C37: シングルスカル | D37: 県予選順位 | F37: 位 | H37: 女子 | I37: シングルスカル | J37: 県予選順位 | L37: 位
B38: 学校名 | D38: 緊急連絡用携帯番号 | H38: 学校名 | J38: 緊急連絡用携帯番号
B39: 監 督 | H39: 監 督
C40: ふりがな | D40: 生年月日 | F40: 学年 | I40: ふりがな | J40: 生年月日 | L40: 学年
C41: 選 手 名 | I41: 選 手 名
B45: 男子 | C45: シングルスカル（予備） | D45: 県予選順位 | F45: 位 | H45: 女子 | I45: シングルスカル（予備） | J45: 県予選順位 | L45: 位 | N45: 同一校からシングルスカル2クルー参加する場合にご使用ください。
B46: 学校名 | D46: 緊急連絡用携帯番号 | H46: 学校名 | J46: 緊急連絡用携帯番号
B47: 監 督 | H47: 監 督
C48: ふりがな | D48: 生年月日 | F48: 学年 | I48: ふりがな | J48: 生年月日 | L48: 学年
C49: 選 手 名 | I49: 選 手 名
B53: 上記の者は、本校在学生で標記大会に出場することを認め、参加申し込み及び宿泊申し込みいたします。
B54: 令和８年 月 日
L55: 印
AA57: 印

Sheet 一覧票M4
A1: 令和８年度 全九州高等学校体育大会 第６１回全九州高等学校ローイング競技大会 選手一覧票（監視カード） | H1: 種目 | I1: 男子 | K1: レースＮＯ | M1: レーン | N1: 発艇時刻 | P1: 出艇 | Q1: 帰艇
I2: ４×＋ | K2: 予選① | N2: :
A4: 学校名 | K4: 予選② | N4: : | R4: =参加申込書!N7 -> 写真票兼監視カード（カラー印刷ラミネート加工したもの １部）は
C5: =参加申込書!C6 -> 0 | R5: =参加申込書!N8 -> ６月１２日開会式・代表者会議受付時に提出してください。
K6: 準決 | N6: : | R6: ＊写真のサイズは３ｃｍ×３．５ｃｍ程度でお願いします。
A7: 監督名 | G7: 携帯番号(緊急連絡用)
C8: =参加申込書!C7 -> 0 | G8: =参加申込書!D7 -> 0 | K8: 決勝 | N8: :
A10: 登 録 選 手
A11: Ｃ | E11: Ｓ | I11: 3 | M11: ２
A12: 氏名 | B12: =参加申込書!C10 -> 0 | E12: 氏名 | F12: =参加申込書!C12 -> 0 | I12: 氏名 | J12: =参加申込書!C14 -> 0 | M12: 氏名 | N12: =参加申込書!C16 -> 0
B13: =参加申込書!C11 -> 0 | F13: =参加申込書!C13 -> 0 | J13: =参加申込書!C15 -> 0 | N13: =参加申込書!C17 -> 0
A15: 生年月日 | B15: =参加申込書!D10 -> 0 | E15: 生年月日 | F15: =参加申込書!D12 -> 0 | I15: 生年月日 | J15: =参加申込書!D14 -> 0 | M15: 生年月日 | N15: =参加申込書!D16 -> 0
A16: 学年 | B16: =参加申込書!F10 -> 0 | E16: 学年 | F16: =参加申込書!F12 -> 0 | I16: 学年 | J16: =参加申込書!F14 -> 0 | M16: 学年 | N16: =参加申込書!F16 -> 0
A24: Ｂ監視確認欄 | B24: 予選 | E24: Ｂ監視確認欄 | F24: 予選 | I24: Ｂ監視確認欄 | J24: 予選 | M24: Ｂ監視確認欄 | N24: 予選
B25: 敗複 | F25: 敗複 | J25: 敗複 | N25: 敗複
B26: 準決 | F26: 準決 | J26: 準決 | N26: 準決
B27: 決勝 | F27: 決勝 | J27: 決勝 | N27: 決勝
A28: Ｂ | E28: 補漕 | I28: 補漕 | M28: ブレードカラー
A29: 氏名 | B29: =参加申込書!C18 -> 0 | E29: 氏名 | F29: =参加申込書!C20 -> 0 | I29: 氏名 | J29: =参加申込書!C22 -> 0
B30: =参加申込書!C19 -> 0 | F30: =参加申込書!C21 -> 0 | J30: =参加申込書!C23 -> 0
A32: 生年月日 | B32: =参加申込書!D18 -> 0 | E32: 生年月日 | F32: =参加申込書!D20 -> 0 | I32: 生年月日 | J32: =参加申込書!D22 -> 0
A33: 学年 | B33: =参加申込書!F18 -> 0 | E33: 学年 | F33: =参加申込書!F20 -> 0 | I33: 学年 | J33: =参加申込書!F22 -> 0
M34: コックス計量
M35: １日目
M36: 体 重
M38: デッドウエイト
M40: ２日目
A41: Ｂ監視確認欄 | B41: 予選 | E41: Ｂ監視確認欄 | F41: 予選 | I41: Ｂ監視確認欄 | J41: 予選 | M41: 体 重
B42: 敗複 | F42: 敗複 | J42: 敗複
B43: 準決 | F43: 準決 | J43: 準決 | M43: デッドウエイト
B44: 決勝 | F44: 決勝 | J44: 決勝
A45: 学校確認欄 | B45: 住 所 | C45: =参加申込書!G3 -> 0 | J45: (備考)
B46: 学校名 | C46: =参加申込書!C3 -> 0
B47: 校長名 | C47: =参加申込書!K3 -> 0
A48: ※この写真票(監視カード)1部をラミネート加工提出にご協力ください。

Sheet 一覧票M2
A1: 令和８年度 全九州高等学校体育大会 第６１回全九州高等学校ローイング競技大会 選手一覧票（監視カード） | H1: 種目 | I1: 男子 | K1: レースＮＯ | M1: レーン | N1: 発艇時刻 | P1: 出艇 | Q1: 帰艇
I2: ２× | K2: 予選① | N2: :
R3: =参加申込書!N7 -> 写真票兼監視カード（カラー印刷ラミネート加工したもの １部）は
A4: 学校名 | K4: 予選② | N4: : | R4: =参加申込書!N8 -> ６月１２日開会式・代表者会議受付時に提出してください。
C5: =参加申込書!C26 -> 0 | R5: ＊写真のサイズは３ｃｍ×３．５ｃｍ程度でお願いします。
K6: 準決 | N6: :
A7: 監督名 | G7: 携帯番号(緊急連絡用)
C8: =参加申込書!C27 -> 0 | G8: =参加申込書!D27 -> 0 | K8: 決勝 | N8: :
A10: ブレードカラー | E10: 登 録 選 手
E11: Ｓ | I11: Ｂ | M11: 補漕
E12: 氏名 | F12: =参加申込書!C30 -> 0 | I12: 氏名 | J12: =参加申込書!C32 -> 0 | M12: 氏名 | N12: =参加申込書!C34 -> 0
F13: =参加申込書!C31 -> 0 | J13: =参加申込書!C33 -> 0 | N13: =参加申込書!C35 -> 0
E15: 生年月日 | F15: =参加申込書!D30 -> 0 | I15: 生年月日 | J15: =参加申込書!D32 -> 0 | M15: 生年月日 | N15: =参加申込書!D34 -> 0
E16: 学年 | F16: =参加申込書!F30 -> 0 | I16: 学年 | J16: =参加申込書!F32 -> 0 | M16: 学年 | N16: =参加申込書!F34 -> 0
E24: Ｂ監視確認欄 | F24: 予選 | I24: Ｂ監視確認欄 | J24: 予選 | M24: Ｂ監視確認欄 | N24: 予選
F25: 敗複 | J25: 敗複 | N25: 敗複
F26: 準決 | J26: 準決 | N26: 準決
F27: 決勝 | J27: 決勝 | N27: 決勝
A28: ( 備考 )
A42: 学校確認欄 | B42: 住 所 | C42: =参加申込書!G3 -> 0
B43: 学校名 | C43: =参加申込書!C3 -> 0
B44: 校長名 | C44: =参加申込書!K3 -> 0
A45: 県専門委員長 確認欄
A47: ※この写真票(監視カード)1部をラミネート加工提出にご協力ください。

Sheet 一覧票M1
A1: 令和８年度 全九州高等学校体育大会 第６１回全九州高等学校ローイング競技大会 選手一覧票（監視カード） | H1: 種目 | I1: 男子 | K1: レースＮＯ | M1: レーン | N1: 発艇時刻 | P1: 出艇 | Q1: 帰艇
I2: １× | K2: 予選① | N2: :
R3: =参加申込書!N7 -> 写真票兼監視カード（カラー印刷ラミネート加工したもの １部）は
A4: 学校名 | K4: 予選② | N4: : | R4: =参加申込書!N8 -> ６月１２日開会式・代表者会議受付時に提出してください。
C5: =参加申込書!C38 -> 0 | R5: ＊写真のサイズは３ｃｍ×３．５ｃｍ程度でお願いします。
K6: 準決 | N6: :
A7: 監督名 | G7: 携帯番号(緊急連絡用)
C8: =参加申込書!C39 -> 0 | G8: =参加申込書!D39 -> 0 | K8: 決勝 | N8: :
A10: ブレードカラー | I10: 登 録 選 手
I12: 氏名 | J12: =参加申込書!C42 -> 0
J13: =参加申込書!C43 -> 0
I15: 生年月日 | J15: =参加申込書!D42 -> 0
I16: 学年 | J16: =参加申込書!F42 -> 0
I24: Ｂ監視確認欄 | J24: 予選
J25: 敗複
J26: 準決
J27: 決勝
A28: ( 備考 )
A42: 学校確認欄 | B42: 住 所 | C42: =参加申込書!G3 -> 0
B43: 学校名 | C43: =参加申込書!C3 -> 0
B44: 校長名 | C44: =参加申込書!K3 -> 0
A45: 県専門委員長 確認欄
A47: ※この写真票(監視カード)1部をラミネート加工提出にご協力ください。

Sheet 一覧票M1予備
A1: 令和８年度 全九州高等学校体育大会 第６１回全九州高等学校ローイング競技大会 選手一覧票（監視カード） | H1: 種目 | I1: 男子 | K1: レースＮＯ | M1: レーン | N1: 発艇時刻 | P1: 出艇 | Q1: 帰艇
I2: １× | K2: 予選① | N2: :
R3: =参加申込書!N7 -> 写真票兼監視カード（カラー印刷ラミネート加工したもの １部）は
A4: 学校名 | K4: 予選② | N4: : | R4: =参加申込書!N8 -> ６月１２日開会式・代表者会議受付時に提出してください。
C5: =参加申込書!C46 -> 0 | R5: ＊写真のサイズは３ｃｍ×３．５ｃｍ程度でお願いします。
K6: 準決 | N6: :
A7: 監督名 | G7: 携帯番号(緊急連絡用)
C8: =参加申込書!C47 -> 0 | G8: =参加申込書!D47 -> 0 | K8: 決勝 | N8: :
A10: ブレードカラー | I10: 登 録 選 手
I12: 氏名 | J12: =参加申込書!C50 -> 0
J13: =参加申込書!C51 -> 0
I15: 生年月日 | J15: =参加申込書!D50 -> 0
I16: 学年 | J16: =参加申込書!F50 -> 0
I24: Ｂ監視確認欄 | J24: 予選
J25: 敗複
J26: 準決
J27: 決勝
A28: ( 備考 )
A42: 学校確認欄 | B42: 住 所 | C42: =参加申込書!G3 -> 0
B43: 学校名 | C43: =参加申込書!C3 -> 0
B44: 校長名 | C44: =参加申込書!K3 -> 0
A45: 県専門委員長 確認欄
A47: ※この写真票(監視カード)1部をラミネート加工提出にご協力ください。

Sheet 一覧票W4
A1: 令和８年度 全九州高等学校体育大会 第６１回全九州高等学校ローイング競技大会 選手一覧票（監視カード） | H1: 種目 | I1: 女子 | K1: レースＮＯ | M1: レーン | N1: 発艇時刻 | P1: 出艇 | Q1: 帰艇
I2: ４×＋ | K2: 予選① | N2: :
R3: =参加申込書!N7 -> 写真票兼監視カード（カラー印刷ラミネート加工したもの １部）は
A4: 学校名 | K4: 予選② | N4: : | R4: =参加申込書!N8 -> ６月１２日開会式・代表者会議受付時に提出してください。
C5: =参加申込書!I6 -> 0 | R5: ＊写真のサイズは３ｃｍ×３．５ｃｍ程度でお願いします。
K6: 準決 | N6: :
A7: 監督名 | G7: 携帯番号(緊急連絡用)
C8: =参加申込書!I7 -> 0 | G8: =参加申込書!J7 -> 0 | K8: 決勝 | N8: :
A10: 登 録 選 手
A11: Ｃ | E11: Ｓ | I11: ３ | M11: ２
A12: 氏名 | B12: =参加申込書!I10 -> 0 | E12: 氏名 | F12: =参加申込書!I12 -> 0 | I12: 氏名 | J12: =参加申込書!I14 -> 0 | M12: 氏名 | N12: =参加申込書!I16 -> 0
B13: =参加申込書!I11 -> 0 | F13: =参加申込書!I13 -> 0 | J13: =参加申込書!I15 -> 0 | N13: =参加申込書!I17 -> 0
A15: 生年月日 | B15: =参加申込書!J10 -> 0 | E15: 生年月日 | F15: =参加申込書!J12 -> 0 | I15: 生年月日 | J15: =参加申込書!J14 -> 0 | M15: 生年月日 | N15: =参加申込書!J16 -> 0
A16: 学年 | B16: =参加申込書!L10 -> 0 | E16: 学年 | F16: =参加申込書!L12 -> 0 | I16: 学年 | J16: =参加申込書!L14 -> 0 | M16: 学年 | N16: =参加申込書!L16 -> 0
A24: Ｂ監視確認欄 | B24: 予選 | E24: Ｂ監視確認欄 | F24: 予選 | I24: Ｂ監視確認欄 | J24: 予選 | M24: Ｂ監視確認欄 | N24: 予選
B25: 敗複 | F25: 敗複 | J25: 敗複 | N25: 敗複
B26: 準決 | F26: 準決 | J26: 準決 | N26: 準決
B27: 決勝 | F27: 決勝 | J27: 決勝 | N27: 決勝
A28: Ｂ | E28: 補漕 | I28: 補漕 | M28: ブレードカラー
A29: 氏名 | B29: =参加申込書!I18 -> 0 | E29: 氏名 | F29: =参加申込書!I20 -> 0 | I29: 氏名 | J29: =参加申込書!I22 -> 0
B30: =参加申込書!I19 -> 0 | F30: =参加申込書!I21 -> 0 | J30: =参加申込書!I23 -> 0
A32: 生年月日 | B32: =参加申込書!J18 -> 0 | E32: 生年月日 | F32: =参加申込書!J20 -> 0 | I32: 生年月日 | J32: =参加申込書!J22 -> 0
A33: 学年 | B33: =参加申込書!L18 -> 0 | E33: 学年 | F33: =参加申込書!L20 -> 0 | I33: 学年 | J33: =参加申込書!L22 -> 0
M34: コックス計量
M35: １日目
M36: 体 重
M38: デッドウエイト
M40: ２日目
A41: Ｂ監視確認欄 | B41: 予選 | E41: Ｂ監視確認欄 | F41: 予選 | I41: Ｂ監視確認欄 | J41: 予選 | M41: 体 重
B42: 敗複 | F42: 敗複 | J42: 敗複
B43: 準決 | F43: 準決 | J43: 準決 | M43: デッドウエイト
B44: 決勝 | F44: 決勝 | J44: 決勝
A45: 学校確認欄 | B45: 住 所 | C45: =参加申込書!G3 -> 0 | J45: (備考)
B46: 学校名 | C46: =参加申込書!C3 -> 0
B47: 校長名 | C47: =参加申込書!K3 -> 0
A48: 県専門委員長 確認欄
A49: ※この写真票(監視カード)1部をラミネート加工提出にご協力ください。

Sheet 一覧票W2
A1: 令和８年度 全九州高等学校体育大会 第６１回全九州高等学校ローイング競技大会 選手一覧票（監視カード） | H1: 種目 | I1: 女子 | K1: レースＮＯ | M1: レーン | N1: 発艇時刻 | P1: 出艇 | Q1: 帰艇
I2: ２× | K2: 予選① | N2: :
R3: =参加申込書!N7 -> 写真票兼監視カード（カラー印刷ラミネート加工したもの １部）は
A4: 学校名 | K4: 予選② | N4: : | R4: =参加申込書!N8 -> ６月１２日開会式・代表者会議受付時に提出してください。
C5: =参加申込書!I26 -> 0 | R5: ＊写真のサイズは３ｃｍ×３．５ｃｍ程度でお願いします。
K6: 準決 | N6: :
A7: 監督名 | G7: 携帯番号(緊急連絡用)
C8: =参加申込書!I27 -> 0 | G8: =参加申込書!J27 -> 0 | K8: 決勝 | N8: :
A10: ブレードカラー | E10: 登 録 選 手
E11: Ｓ | I11: Ｂ | M11: 補漕
E12: 氏名 | F12: =参加申込書!I30 -> 0 | I12: 氏名 | J12: =参加申込書!I32 -> 0 | M12: 氏名 | N12: =参加申込書!I34 -> 0
F13: =参加申込書!I31 -> 0 | J13: =参加申込書!I33 -> 0 | N13: =参加申込書!I35 -> 0
E15: 生年月日 | F15: =参加申込書!J30 -> 0 | I15: 生年月日 | J15: =参加申込書!J32 -> 0 | M15: 生年月日 | N15: =参加申込書!J34 -> 0
E16: 学年 | F16: =参加申込書!L30 -> 0 | I16: 学年 | J16: =参加申込書!L32 -> 0 | M16: 学年 | N16: =参加申込書!L34 -> 0
E24: Ｂ監視確認欄 | F24: 予選 | I24: Ｂ監視確認欄 | J24: 予選 | M24: Ｂ監視確認欄 | N24: 予選
F25: 敗複 | J25: 敗複 | N25: 敗複
F26: 準決 | J26: 準決 | N26: 準決
F27: 決勝 | J27: 決勝 | N27: 決勝
A28: ( 備考 )
A42: 学校確認欄 | B42: 住 所 | C42: =参加申込書!G3 -> 0
B43: 学校名 | C43: =参加申込書!C3 -> 0
B44: 校長名 | C44: =参加申込書!K3 -> 0
A45: 県専門委員長 確認欄
A47: ※この写真票(監視カード)1部をラミネート加工提出にご協力ください。

Sheet 一覧票W1
A1: 令和８年度 全九州高等学校体育大会 第６１回全九州高等学校ローイング競技大会 選手一覧票（監視カード） | H1: 種目 | I1: 女子 | K1: レースＮＯ | M1: レーン | N1: 発艇時刻 | P1: 出艇 | Q1: 帰艇
I2: １× | K2: 予選① | N2: :
R3: =参加申込書!N7 -> 写真票兼監視カード（カラー印刷ラミネート加工したもの １部）は
A4: 学校名 | K4: 予選② | N4: : | R4: =参加申込書!N8 -> ６月１２日開会式・代表者会議受付時に提出してください。
C5: =参加申込書!I38 -> 0 | R5: ＊写真のサイズは３ｃｍ×３．５ｃｍ程度でお願いします。
K6: 準決 | N6: :
A7: 監督名 | G7: 携帯番号(緊急連絡用)
C8: =参加申込書!I39 -> 0 | G8: =参加申込書!J39 -> 0 | K8: 決勝 | N8: :
A10: ブレードカラー | I10: 登 録 選 手
I12: 氏名 | J12: =参加申込書!I42 -> 0
J13: =参加申込書!I43 -> 0
I15: 生年月日 | J15: =参加申込書!J42 -> 0
I16: 学年 | J16: =参加申込書!L42 -> 0
I24: Ｂ監視確認欄 | J24: 予選
J25: 敗複
J26: 準決
J27: 決勝
A28: ( 備考 )
A42: 学校確認欄 | B42: 住 所 | C42: =参加申込書!G3 -> 0
B43: 学校名 | C43: =参加申込書!C3 -> 0
B44: 校長名 | C44: =参加申込書!K3 -> 0
A45: 県専門委員長 確認欄
A47: ※この写真票(監視カード)1部をラミネート加工提出にご協力ください。

Sheet 一覧票W1予備
A1: 令和８年度 全九州高等学校体育大会 第６１回全九州高等学校ローイング競技大会 選手一覧票（監視カード） | H1: 種目 | I1: 女子 | K1: レースＮＯ | M1: レーン | N1: 発艇時刻 | P1: 出艇 | Q1: 帰艇
I2: １× | K2: 予選① | N2: :
R3: =参加申込書!N7 -> 写真票兼監視カード（カラー印刷ラミネート加工したもの １部）は
A4: 学校名 | K4: 予選② | N4: : | R4: =参加申込書!N8 -> ６月１２日開会式・代表者会議受付時に提出してください。
C5: =参加申込書!I46 -> 0 | R5: ＊写真のサイズは３ｃｍ×３．５ｃｍ程度でお願いします。
K6: 準決 | N6: :
A7: 監督名 | G7: 携帯番号(緊急連絡用)
C8: =参加申込書!I47 -> 0 | G8: =参加申込書!J47 -> 0 | K8: 決勝 | N8: :
A10: ブレードカラー | I10: 登 録 選 手
I12: 氏名 | J12: =参加申込書!I50 -> 0
J13: =参加申込書!I51 -> 0
I15: 生年月日 | J15: =参加申込書!J50 -> 0
I16: 学年 | J16: =参加申込書!L50 -> 0
I24: Ｂ監視確認欄 | J24: 予選
J25: 敗複
J26: 準決
J27: 決勝
A28: ( 備考 )
A42: 学校確認欄 | B42: 住 所 | C42: =参加申込書!G3 -> 0
B43: 学校名 | C43: =参加申込書!C3 -> 0
B44: 校長名 | C44: =参加申込書!K3 -> 0
A45: 県専門委員長 確認欄
A47: ※この写真票(監視カード)1部をラミネート加工提出にご協力ください。
